BEGIN:VCALENDAR
VERSION:2.0
PRODID:www.cancer.gov
BEGIN:VEVENT
UID:69ece4cfba3d7
DTSTART:20210308T150035Z
SEQUENCE:0
TRANSP:OPAQUE
DTEND:20210308T180035Z
SUMMARY:CUGH Satellite Session: Strategies to Address Global Health Inequit
 ies 
CLASS:PUBLIC
DESCRIPTION:NIH in partnership with the Consortium of Universities for Glob
 al Health (CUGH) hosted a satellite session for the 12th Annual CUGH Virtu
 al Conference. View the session\, Strategies to Address Global Health Ineq
 uities\, co-moderated by NCI Center for Global Health's Dr. Vidya Vedham.
DTSTAMP:20260425T155911Z
END:VEVENT
END:VCALENDAR