BEGIN:VCALENDAR
VERSION:2.0
PRODID:www.cancer.gov
BEGIN:VEVENT
UID:69ecd7322fe8f
DTSTART:20210929T140000Z
SEQUENCE:0
TRANSP:OPAQUE
DTEND:20210929T150000Z
SUMMARY:IPVS Webinar - HPV Latency: More Questions Than Answers
CLASS:PUBLIC
DESCRIPTION:The International Papilloma Virus Society  will host Drs. Betti
 e Steinburg and Patti Gravitt will take an interdisciplinary look at the e
 vidence and lead a discussion to help the papillomavirus community reflect
  on what is known and unknown about HPV latency\, why it may be important 
 to accelerate research efforts to address the remaining uncertainties\, an
 d how we may frame the research questions using novel study designs and in
 terdisciplinary perspectives. 
DTSTAMP:20260425T150106Z
END:VEVENT
END:VCALENDAR