BEGIN:VCALENDAR
VERSION:2.0
PRODID:www.cancer.gov
BEGIN:VEVENT
UID:69ed20a7b52f0
DTSTART:20220928T150000Z
SEQUENCE:0
TRANSP:OPAQUE
DTEND:20220929T173000Z
SUMMARY:Global Cancer Stigma Research Workshop
CLASS:PUBLIC
DESCRIPTION:Global Cancer Stigma Research Workshop
DTSTAMP:20260425T201431Z
END:VEVENT
END:VCALENDAR