BEGIN:VCALENDAR
VERSION:2.0
PRODID:www.cancer.gov
BEGIN:VEVENT
UID:69eb8c08a873a
DTSTART:20230313T130000Z
SEQUENCE:0
TRANSP:OPAQUE
DTEND:20230313T170000Z
LOCATION:Bethesda\, MD USA
SUMMARY:Cancer Knows No Borders – Celebrating Tripartite Cooperation to E
 nhance Cancer Research
CLASS:PUBLIC
DESCRIPTION:Symposium highlighting the successful training exchanges involv
 ing the NCI intramural program over many years with colleagues in Ireland 
 and Northern Ireland.
DTSTAMP:20260424T152808Z
END:VEVENT
END:VCALENDAR