BEGIN:VCALENDAR
VERSION:2.0
PRODID:www.cancer.gov
BEGIN:VEVENT
UID:69e4e9607e1ce
DTSTART:20230831T150000Z
SEQUENCE:0
TRANSP:OPAQUE
DTEND:20230831T163000Z
SUMMARY:Embracing the Complexity:  Transdisciplinary Approaches to Advance 
 the Science of Cancer Health Disparities
CLASS:PUBLIC
DESCRIPTION:Cancer Health Disparities Virtual Visioning Workshops
DTSTAMP:20260419T144032Z
END:VEVENT
END:VCALENDAR