BEGIN:VCALENDAR
VERSION:2.0
PRODID:www.cancer.gov
BEGIN:VEVENT
UID:69ecde4ca2b9c
DTSTART:20231027T155000Z
SEQUENCE:0
TRANSP:OPAQUE
DTEND:20231027T045000Z
SUMMARY:Alleviating EBV & KSHV-Mediated Suffering in Africa - City of Hope 
 Global Oncology Symposium
CLASS:PUBLIC
DESCRIPTION:Drs. Doug Lowy and Satish Gopal will present at the City of Hop
 e Global Oncology Symposium on Oncogenic Viruses. This Symposium will show
 case four sessions with a blend of in-person and virtual speakers\, ensuri
 ng a comprehensive perspective from cancer control in lower-middle-income 
 countries to taking a deep dive into molecular mechanisms and therapies. E
 ach session consists of presentations from our expert panelists\, followed
  by a Q&A.
DTSTAMP:20260425T153124Z
END:VEVENT
END:VCALENDAR