BEGIN:VCALENDAR
VERSION:2.0
PRODID:www.cancer.gov
BEGIN:VEVENT
UID:69e7962402fcf
DTSTART:20231128T133000Z
SEQUENCE:0
TRANSP:OPAQUE
DTEND:20231129T233000Z
LOCATION:Bethesda\, MD USA
SUMMARY:Research and Innovation Translation Partnerships in Point-of-Care T
 echnologies Conference and Technology Showcase
CLASS:PUBLIC
DESCRIPTION:Research and Innovation Translation Partnerships in Point-of-Ca
 re Technologies Conference and Technology Showcase
DTSTAMP:20260421T152212Z
END:VEVENT
END:VCALENDAR