BEGIN:VCALENDAR
VERSION:2.0
PRODID:www.cancer.gov
BEGIN:VEVENT
UID:69eb8330546d7
DTSTART:20240627T150000Z
SEQUENCE:0
TRANSP:OPAQUE
DTEND:20240627T183000Z
SUMMARY:NIH Sex and Gender Differences in Cancer - Population Sciences
CLASS:PUBLIC
DESCRIPTION:This series of virtual workshops will bring together those that
  are interested in sex and gender differences in cancer in the areas of ba
 sic biology\, genomics\, epigenetics\, immunology\, clinical/translational
  science\, as well as population science\, to not only learn about the lat
 est research findings but to also identify gaps in our knowledge\, identif
 y potential collaborative opportunities\, and learn best practices for met
 hodology and reporting.
DTSTAMP:20260424T145024Z
END:VEVENT
END:VCALENDAR