BEGIN:VCALENDAR
VERSION:2.0
PRODID:www.cancer.gov
BEGIN:VEVENT
UID:69eb9874334f1
DTSTART:20240926T100000Z
SEQUENCE:0
TRANSP:OPAQUE
DTEND:20240926T110000Z
SUMMARY:World Cancer Research Day 2024
CLASS:PUBLIC
DESCRIPTION:Thursday\, September 26th\, World Cancer Research Day members w
 ill join Queen Letizia of Spain at the International Foundation of Medicin
 e in Milan to raise awareness about the importance of cancer research in t
 he fight against cancer worldwide. 
DTSTAMP:20260424T162108Z
END:VEVENT
END:VCALENDAR