BEGIN:VCALENDAR
VERSION:2.0
PRODID:www.cancer.gov
BEGIN:VEVENT
UID:69ecd063d6881
DTSTART:20250410T140000Z
SEQUENCE:0
TRANSP:OPAQUE
DTEND:20250410T150000Z
SUMMARY:The Changing Global Landscape of National Cancer Control Plans
CLASS:PUBLIC
DESCRIPTION:Yannick Romero and Zuzanna Tittenbrun will discuss the 2023 glo
 bal review of national cancer control plans in this Global Cancer Research
  & Control Seminar. April 10\, 2025.
DTSTAMP:20260425T143203Z
END:VEVENT
END:VCALENDAR