BEGIN:VCALENDAR
VERSION:2.0
PRODID:www.cancer.gov
BEGIN:VEVENT
UID:69e7d5108848e
DTSTART:20241009T130000Z
SEQUENCE:0
TRANSP:OPAQUE
DTEND:20241011T160000Z
LOCATION:Arlington\, VA
SUMMARY:2024 Children’s Brain Tumor Network (CBTN) Summit
CLASS:PUBLIC
DESCRIPTION:Attend this 3-day summit hosted by the Children’s Brain Tumor
  Network (CBTN) to learn more about how data and technology are helping ad
 vance research in childhood cancers.
DTSTAMP:20260421T195040Z
END:VEVENT
END:VCALENDAR