BEGIN:VCALENDAR
VERSION:2.0
PRODID:www.cancer.gov
BEGIN:VEVENT
UID:69e7d5108193a
DTSTART:20241121T150000Z
SEQUENCE:0
TRANSP:OPAQUE
DTEND:20241121T160000Z
SUMMARY:Advancing Responsible Large Language Models (LLMs) for Biomedicine 
 and Healthcare
CLASS:PUBLIC
DESCRIPTION:Electronic Health Record data are typically incomplete and frau
 ght with errors and biases. Learn how researchers are using LLMs to addres
 s data issues\, particularly related to insufficient information.
DTSTAMP:20260421T195040Z
END:VEVENT
END:VCALENDAR