BEGIN:VCALENDAR
VERSION:2.0
PRODID:www.cancer.gov
BEGIN:VEVENT
UID:69e7d51109e5d
DTSTART:20250305T160000Z
SEQUENCE:0
TRANSP:OPAQUE
DTEND:20250305T170000Z
SUMMARY:AI-Augmented Pathology: Enhancing Real-Time Cancer Diagnosis and Di
 scovery
CLASS:PUBLIC
DESCRIPTION:Register for this Data Science Seminar to hear how artificial i
 ntelligence (AI) is impacting cancer research and clinical diagnosis by tr
 ansforming the field of pathology\, particularly by enhancing the assessme
 nt of tissue samples and microscopic images.
DTSTAMP:20260421T195041Z
END:VEVENT
END:VCALENDAR