BEGIN:VCALENDAR
VERSION:2.0
PRODID:www.cancer.gov
BEGIN:VEVENT
UID:69ea27469c760
DTSTART:20250507T150000Z
SEQUENCE:0
TRANSP:OPAQUE
DTEND:20250507T160000Z
SUMMARY:AI-Driven Spatial Transcriptomics Unlocks Large-Scale Breast Cancer
  Biomarker Discovery from Histopathology
CLASS:PUBLIC
DESCRIPTION:Attend this Data Science Seminar to learn how a new deep learni
 ng approach predicts spatial gene expression and is changing our understan
 ding of tumor heterogeneity by providing high-resolution\, location-specif
 ic mapping of gene expression within tumors and their microenvironment.
DTSTAMP:20260423T140558Z
END:VEVENT
END:VCALENDAR