BEGIN:VCALENDAR
VERSION:2.0
PRODID:www.cancer.gov
BEGIN:VEVENT
UID:69e7e8532771d
DTSTART:20240723T150000Z
SEQUENCE:0
TRANSP:OPAQUE
DTEND:20240723T160000Z
SUMMARY:Artificial Intelligence (AI) and Cancer Health Disparities
CLASS:PUBLIC
DESCRIPTION:Hear panelists discuss the application of AI in the field of ca
 ncer health disparities. This event is part of the Cancer AI Conversations
  bimonthly webinar series.
DTSTAMP:20260421T211251Z
END:VEVENT
END:VCALENDAR