BEGIN:VCALENDAR
VERSION:2.0
PRODID:www.cancer.gov
BEGIN:VEVENT
UID:69e7d5107b249
DTSTART:20250612T173000Z
SEQUENCE:0
TRANSP:OPAQUE
DTEND:20250612T190000Z
SUMMARY:An Artificial Intelligence (AI) Code of Conduct for Health and Medi
 cine Publication Release Webinar
CLASS:PUBLIC
DESCRIPTION:Learn how the National Academy of Medicine’s AI Code of Condu
 ct framework supports AI governance in health and medicine. It does this b
 y building trust\, protecting patients\, and guiding responsible innovatio
 n.  
DTSTAMP:20260421T195040Z
END:VEVENT
END:VCALENDAR