BEGIN:VCALENDAR
VERSION:2.0
PRODID:www.cancer.gov
BEGIN:VEVENT
UID:69e7e8521d372
DTSTART:20240718T160000Z
SEQUENCE:0
TRANSP:OPAQUE
DTEND:20240720T160000Z
LOCATION:Newark\, DE 19716
SUMMARY:ATOM Hackathon 2024
CLASS:PUBLIC
DESCRIPTION:Don't miss this opportunity to solve drug discovery challenges 
 and contribute to case studies in artificial intelligence-driven molecular
  modeling.
DTSTAMP:20260421T211250Z
END:VEVENT
END:VCALENDAR