BEGIN:VCALENDAR
VERSION:2.0
PRODID:www.cancer.gov
BEGIN:VEVENT
UID:69eb9874210dd
DTSTART:20241016T160000Z
SEQUENCE:0
TRANSP:OPAQUE
DTEND:20241017T160000Z
SUMMARY:The Cancer Research Data Commons 2024 Fall Symposium: Ten Years of 
 Empowering Cancer Researchers
CLASS:PUBLIC
DESCRIPTION:Join us to reflect on the last 10 years of CRDC accomplishments
  and discover what lies ahead for this data science infrastructure! Inform
 ative session topics will address interoperability and data governance\, d
 ata search and discovery\, partnership updates\, and how the CRDC contribu
 tes to research studies.
DTSTAMP:20260424T162108Z
END:VEVENT
END:VCALENDAR