BEGIN:VCALENDAR
VERSION:2.0
PRODID:www.cancer.gov
BEGIN:VEVENT
UID:69e7e8526b7d5
DTSTART:20240508T133000Z
SEQUENCE:0
TRANSP:OPAQUE
DTEND:20240509T210000Z
LOCATION:Rockville\, MD
SUMMARY:Cancer Research Data Exchange Summit
CLASS:PUBLIC
DESCRIPTION:Join fellow researchers\, data scientists\, and patient advocat
 es in the quest to enhance today’s collection and exchange of standardiz
 ed cancer data.
DTSTAMP:20260421T211250Z
END:VEVENT
END:VCALENDAR