BEGIN:VCALENDAR
VERSION:2.0
PRODID:www.cancer.gov
BEGIN:VEVENT
UID:69e7d510a717a
DTSTART:20240927T113000Z
SEQUENCE:0
TRANSP:OPAQUE
DTEND:20240927T210000Z
LOCATION:Washington\, DC
SUMMARY:Computational Modeling to Advance Novel Medical Isotopes for Radiop
 harmaceutical Therapy
CLASS:PUBLIC
DESCRIPTION:This NIH-Department of Energy workshop will help you leverage c
 omputational modeling\, translate novel medical isotopes\, and develop imp
 roved radiopharmaceutical theranostics for cancer.
DTSTAMP:20260421T195040Z
END:VEVENT
END:VCALENDAR