BEGIN:VCALENDAR
VERSION:2.0
PRODID:www.cancer.gov
BEGIN:VEVENT
UID:69e7d5114ce19
DTSTART:20241126T160000Z
SEQUENCE:0
TRANSP:OPAQUE
DTEND:20241126T170000Z
SUMMARY:Evaluating AI Models: Benchmarking and Fairness
CLASS:PUBLIC
DESCRIPTION:Join experts as they discuss the complexities of benchmarking a
 rtificial intelligence (AI) performance and ensuring fairness in model out
 comes. This event is part of the Cancer AI Conversations bimonthly webinar
  series.
DTSTAMP:20260421T195041Z
END:VEVENT
END:VCALENDAR