BEGIN:VCALENDAR
VERSION:2.0
PRODID:www.cancer.gov
BEGIN:VEVENT
UID:69e7d72209002
DTSTART:20241016T150000Z
SEQUENCE:0
TRANSP:OPAQUE
DTEND:20241016T160000Z
SUMMARY:Generative AI for Modeling Single-cell State and Response
CLASS:PUBLIC
DESCRIPTION:Attend this webinar to learn how artificial intelligence (AI) i
 s transforming science\, giving cancer researchers\, like you\, new ways t
 o simulate complex phenomena by modeling single-cell data.
DTSTAMP:20260421T195930Z
END:VEVENT
END:VCALENDAR