BEGIN:VCALENDAR
VERSION:2.0
PRODID:www.cancer.gov
BEGIN:VEVENT
UID:69e7d5109b991
DTSTART:20250708T160000Z
SEQUENCE:0
TRANSP:OPAQUE
DTEND:20250708T170000Z
SUMMARY:Predicting Patients’ Response to Immunotherapy from Tumor Histopa
 thology and Blood: Computational Science in Immuno-oncology
CLASS:PUBLIC
DESCRIPTION:Learn how to better predict patient responses to immunotherapy 
 through tumor histopathology and blood samples. 
DTSTAMP:20260421T195040Z
END:VEVENT
END:VCALENDAR