BEGIN:VCALENDAR
VERSION:2.0
PRODID:www.cancer.gov
BEGIN:VEVENT
UID:69e7be7da3251
DTSTART:20251117T140000Z
SEQUENCE:0
TRANSP:OPAQUE
DTEND:20251117T173000Z
LOCATION:St. Louis\, MO
SUMMARY:Eleventh Computational Approaches for Cancer Workshop 2025 (CAFCW25
 )
CLASS:PUBLIC
DESCRIPTION:Don’t miss this workshop\, which is part of SC25 and co-organ
 ized by NCI\, to share insights and foster collaborations with other exper
 ts in the field!
DTSTAMP:20260421T181421Z
END:VEVENT
END:VCALENDAR