BEGIN:VCALENDAR
VERSION:2.0
PRODID:www.cancer.gov
BEGIN:VEVENT
UID:69e73769ec38c
DTSTART:20250916T130000Z
SEQUENCE:0
TRANSP:OPAQUE
DTEND:20250916T153000Z
SUMMARY:Select Sessions from the Annual Symposium on Global Cancer Research
CLASS:PUBLIC
DESCRIPTION:Select sessions from the 13th Annual Symposium on Global Caner 
 Research will be held as as one-day virtual Symposium on Tuesday\, Septemb
 er 16th. 
DTSTAMP:20260421T083801Z
END:VEVENT
END:VCALENDAR