BEGIN:VCALENDAR
VERSION:2.0
PRODID:www.cancer.gov
BEGIN:VEVENT
UID:69e7e851ed2f3
DTSTART:20240522T190000Z
SEQUENCE:0
TRANSP:OPAQUE
DTEND:20240522T200000Z
LOCATION:Minneapolis\, MN
SUMMARY:Harmonization of Real-World Data to Common Data Elements for the Na
 tional Childhood Cancer Registry
CLASS:PUBLIC
DESCRIPTION:Attending the AMIA Clinical Informatics Conference? Join this p
 articular session about the National Childhood Cancer Registry! You’re l
 earn how the registry’s real-world data harmonization process for popula
 tion research in childhood cancer can serve as a model for similar harmoni
 zation efforts.
DTSTAMP:20260421T211249Z
END:VEVENT
END:VCALENDAR