BEGIN:VCALENDAR
VERSION:2.0
PRODID:www.cancer.gov
BEGIN:VEVENT
UID:69e7e64a2b438
DTSTART:20250513T160000Z
SEQUENCE:0
TRANSP:OPAQUE
DTEND:20250520T160000Z
SUMMARY:Workshop Series: Synthetic and Systems Approaches to Interrogate Sp
 atiotemporal Processes in Cancer
CLASS:PUBLIC
DESCRIPTION:Each workshop in this three-part series brings together researc
 hers to share insights\, discuss emerging technologies\, and identify solu
 tions to key challenges in cancer biology.
DTSTAMP:20260421T210410Z
END:VEVENT
END:VCALENDAR