BEGIN:VCALENDAR
VERSION:2.0
PRODID:www.cancer.gov
BEGIN:VEVENT
UID:69ecd7324cc90
DTSTART:20250325T180000Z
SEQUENCE:0
TRANSP:OPAQUE
DTEND:20250325T190000Z
SUMMARY:Mapping Tumor Heterogeneity Across Space and Time
CLASS:PUBLIC
DESCRIPTION:Learn about advanced computational methods for analyzing cancer
 -related genetic data. This event is part of NCI’s Emerging Technologies
  Seminar Series\, highlighting NCI-supported novel technologies that could
  transform cancer research and clinical care.
DTSTAMP:20260425T150106Z
END:VEVENT
END:VCALENDAR