BEGIN:VCALENDAR
VERSION:2.0
PRODID:www.cancer.gov
BEGIN:VEVENT
UID:69e7d5112265d
DTSTART:20250617T180000Z
SEQUENCE:0
TRANSP:OPAQUE
DTEND:20250617T190000Z
SUMMARY:NCI Emerging Technologies Seminar: Programs and Resources to Suppor
 t Technology Development for Cancer Research
CLASS:PUBLIC
DESCRIPTION:Learn about NCI programs and resources that can support your wo
 rk in developing technologies for cancer research. This event is part of N
 CI’s Emerging Technologies Seminar Series\, which highlights NCI-support
 ed novel technologies that could transform cancer research and clinical ca
 re.
DTSTAMP:20260421T195041Z
END:VEVENT
END:VCALENDAR