BEGIN:VCALENDAR
VERSION:2.0
PRODID:www.cancer.gov
BEGIN:VEVENT
UID:69e7d5114bd5a
DTSTART:20240820T180000Z
SEQUENCE:0
TRANSP:OPAQUE
DTEND:20240820T190000Z
SUMMARY:NCI Emerging Technologies Seminar Series: Detecting and Characteriz
 ing the Structure of Extrachromosomal DNA
CLASS:PUBLIC
DESCRIPTION:Are you working in cancer genetics and looking for a new way to
  tease apart the impact of extrachromosomal DNA (ecDNA)? Attend this NCI E
 merging Technologies seminar to learn about tools you can use for detectin
 g\, characterizing\, and analyzing ecDNA. 
DTSTAMP:20260421T195041Z
END:VEVENT
END:VCALENDAR