BEGIN:VCALENDAR
VERSION:2.0
PRODID:www.cancer.gov
BEGIN:VEVENT
UID:69e78f796ebc3
DTSTART:20250326T140000Z
SEQUENCE:0
TRANSP:OPAQUE
DTEND:20250327T030000Z
SUMMARY:Pixels to Predictions: Designing Computational Imaging AI to Enable
  Precision Medicine
CLASS:PUBLIC
DESCRIPTION:Learn more about RadxTools\, an image informatics toolkit that 
 uses artificial intelligence (AI) to help clinicians with precision medici
 ne approaches.
DTSTAMP:20260421T145345Z
END:VEVENT
END:VCALENDAR