BEGIN:VCALENDAR
VERSION:2.0
PRODID:www.cancer.gov
BEGIN:VEVENT
UID:69e7d510d5365
DTSTART:20240925T173000Z
SEQUENCE:0
TRANSP:OPAQUE
DTEND:20240925T183000Z
SUMMARY:Predicting Drug Resistance and Drug Repurposing with Imaging-Based 
 AI: AI in Immuno-oncology
CLASS:PUBLIC
DESCRIPTION:Learn about the intersection of imaging-based artificial intell
 igence (AI) and drug resistance in immuno-therapy.
DTSTAMP:20260421T195040Z
END:VEVENT
END:VCALENDAR