BEGIN:VCALENDAR
VERSION:2.0
PRODID:www.cancer.gov
BEGIN:VEVENT
UID:69e7e85258e86
DTSTART:20240730T173000Z
SEQUENCE:0
TRANSP:OPAQUE
DTEND:20240730T183000Z
SUMMARY:Social Determinants of Health with Large/Moderate Language Models o
 n EHR Data: AI in Immuno-oncology
CLASS:PUBLIC
DESCRIPTION:Learn about new methods you can use to examine electronic healt
 h records for social determinants of health in cancer care. 
DTSTAMP:20260421T211250Z
END:VEVENT
END:VCALENDAR