BEGIN:VCALENDAR
VERSION:2.0
PRODID:www.cancer.gov
BEGIN:VEVENT
UID:69e7d144d8b15
DTSTART:20250613T160000Z
SEQUENCE:0
TRANSP:OPAQUE
DTEND:20250613T170000Z
SUMMARY:Transformative AI for Deep Mining of Omics and Literature Data
CLASS:PUBLIC
DESCRIPTION:Learn about new artificial intelligence (AI) tools you can use 
 for your cancer research to identify disease targets\, map signaling pathw
 ays\, and predict drug combinations. 
DTSTAMP:20260421T193428Z
END:VEVENT
END:VCALENDAR