BEGIN:VCALENDAR
VERSION:2.0
PRODID:www.cancer.gov
BEGIN:VEVENT
UID:69e7e85279dca
DTSTART:20240320T150000Z
SEQUENCE:0
TRANSP:OPAQUE
DTEND:20240320T160000Z
SUMMARY:Use of Containers for Custom Software Development at the NCI for AW
 S Cloud and On Premises
CLASS:PUBLIC
DESCRIPTION:Attend this Containers and Workflows Interest Group webinar for
  tips on how to use technologies like Amazon Web Services (AWS)\, Amazon E
 lastic Container Service\, and AWS Fargate.
DTSTAMP:20260421T211250Z
END:VEVENT
END:VCALENDAR