BEGIN:VCALENDAR
VERSION:2.0
PRODID:www.cancer.gov
BEGIN:VEVENT
UID:69e7fb7fb8f21
DTSTART:20240814T123000Z
SEQUENCE:0
TRANSP:OPAQUE
DTEND:20240815T211500Z
LOCATION:Washington\, D.C. (in-person)
SUMMARY:Using AI Approaches to Target Undruggable Cancer Targets
CLASS:PUBLIC
DESCRIPTION:Attend this Cancer Moonshot℠ workshop and work alongside expe
 rts to identify research and collaboration opportunities for using artific
 ial intelligence to target undruggable targets.
DTSTAMP:20260421T223439Z
END:VEVENT
END:VCALENDAR