BEGIN:VCALENDAR
VERSION:2.0
PRODID:www.cancer.gov
BEGIN:VEVENT
UID:69e7d144e78c8
DTSTART:20250321T160000Z
SEQUENCE:0
TRANSP:OPAQUE
DTEND:20250321T170000Z
SUMMARY:Utilizing Data for Advancing Cancer Discoveries
CLASS:PUBLIC
DESCRIPTION:Hear from NCI CBIIT’s Dr. Jill Barnholtz-Sloan describe how N
 CI data science resources can help you with your cancer research! 
DTSTAMP:20260421T193428Z
END:VEVENT
END:VCALENDAR