BEGIN:VCALENDAR
VERSION:2.0
PRODID:www.cancer.gov
BEGIN:VEVENT
UID:69eb84e90ae26
DTSTART:20241015T130000Z
SEQUENCE:0
TRANSP:OPAQUE
DTEND:20241016T210000Z
LOCATION:Bethesda\, MD
SUMMARY:NCI Office of Data Sharing’s Annual Data Sharing Symposium 2024: 
 Driving Cancer Advances Through Impactful Research
CLASS:PUBLIC
DESCRIPTION:Join researchers and experts from across the public/private sec
 tor as they attend the second annual symposium. Be a part of the conversat
 ion that drives advances in cancer research through broad data sharing and
  collaborative science.
DTSTAMP:20260424T145745Z
END:VEVENT
END:VCALENDAR