BEGIN:VCALENDAR
VERSION:2.0
PRODID:www.cancer.gov
BEGIN:VEVENT
UID:69e7be7d66ccf
DTSTART:20260306T160000Z
SEQUENCE:0
TRANSP:OPAQUE
DTEND:20260306T170000Z
SUMMARY:Data Driven QSP Modeling of Cancer: A Step Toward Personalized Trea
 tment
CLASS:PUBLIC
DESCRIPTION:Join this webinar on March 6\, 2026\, at 11 a.m. to learn how a
 n NCI-funded data-driven QSP model could help predict cancer treatment res
 ponse.
DTSTAMP:20260421T181421Z
END:VEVENT
END:VCALENDAR