BEGIN:VCALENDAR
VERSION:2.0
PRODID:www.cancer.gov
BEGIN:VEVENT
UID:69e78cfc5fe54
DTSTART:20251202T190000Z
SEQUENCE:0
TRANSP:OPAQUE
DTEND:20251202T200000Z
SUMMARY:Using the Open-Source Galaxy Computational Workbench for Cancer Dat
 a Analyses
CLASS:PUBLIC
DESCRIPTION:Are you looking for computational tools to analyze and visualiz
 e cancer research data? Join us for a training session on  Galaxy\, an ope
 n-source and browser-based computational platform. 
DTSTAMP:20260421T144308Z
END:VEVENT
END:VCALENDAR