BEGIN:VCALENDAR
VERSION:2.0
PRODID:www.cancer.gov
BEGIN:VEVENT
UID:69e7d144cd2bb
DTSTART:20251211T150000Z
SEQUENCE:0
TRANSP:OPAQUE
DTEND:20251211T160000Z
SUMMARY:Automated Real-World Data Integration Improves Cancer Outcome Predi
 ction
CLASS:PUBLIC
DESCRIPTION:Interested to learn how machine learning can help you tap into 
 the rich data within electronic health records? Join us to learn more abou
 t the “Memorial Sloan Kettering (MSK) Clinicogenomic Harmonized Oncologi
 c Real-World Data set” otherwise known as MSK-CHORD.
DTSTAMP:20260421T193428Z
END:VEVENT
END:VCALENDAR