BEGIN:VCALENDAR
VERSION:2.0
PRODID:www.cancer.gov
BEGIN:VEVENT
UID:69e7be7d78c2d
DTSTART:20260122T160000Z
SEQUENCE:0
TRANSP:OPAQUE
DTEND:20260122T170000Z
SUMMARY:XNAT Scout: Enabling Translational AI
CLASS:PUBLIC
DESCRIPTION:Attend this webinar to learn more about XNAT Scout—a new exte
 nsion of the XNAT imaging informatics platform that’s designed to close 
 the gap between artificial intelligence (AI) model development and clinica
 l deployment.
DTSTAMP:20260421T181421Z
END:VEVENT
END:VCALENDAR